BEGIN:VCALENDAR
VERSION:2.0
PRODID:-//VH Bio - ECPv6.15.11//NONSGML v1.0//EN
CALSCALE:GREGORIAN
METHOD:PUBLISH
X-ORIGINAL-URL:https://www.vhbio.com
X-WR-CALDESC:Events for VH Bio
REFRESH-INTERVAL;VALUE=DURATION:PT1H
X-Robots-Tag:noindex
X-PUBLISHED-TTL:PT1H
BEGIN:VTIMEZONE
TZID:UTC
BEGIN:STANDARD
TZOFFSETFROM:+0000
TZOFFSETTO:+0000
TZNAME:UTC
DTSTART:20240101T000000
END:STANDARD
END:VTIMEZONE
BEGIN:VTIMEZONE
TZID:Europe/London
BEGIN:DAYLIGHT
TZOFFSETFROM:+0000
TZOFFSETTO:+0100
TZNAME:BST
DTSTART:20240331T010000
END:DAYLIGHT
BEGIN:STANDARD
TZOFFSETFROM:+0100
TZOFFSETTO:+0000
TZNAME:GMT
DTSTART:20241027T010000
END:STANDARD
BEGIN:DAYLIGHT
TZOFFSETFROM:+0000
TZOFFSETTO:+0100
TZNAME:BST
DTSTART:20250330T010000
END:DAYLIGHT
BEGIN:STANDARD
TZOFFSETFROM:+0100
TZOFFSETTO:+0000
TZNAME:GMT
DTSTART:20251026T010000
END:STANDARD
BEGIN:DAYLIGHT
TZOFFSETFROM:+0000
TZOFFSETTO:+0100
TZNAME:BST
DTSTART:20260329T010000
END:DAYLIGHT
BEGIN:STANDARD
TZOFFSETFROM:+0100
TZOFFSETTO:+0000
TZNAME:GMT
DTSTART:20261025T010000
END:STANDARD
END:VTIMEZONE
BEGIN:VEVENT
DTSTART;VALUE=DATE:20260409
DTEND;VALUE=DATE:20260410
DTSTAMP:20260421T130756
CREATED:20260331T122332Z
LAST-MODIFIED:20260331T132524Z
UID:184976-1775692800-1775779199@www.vhbio.com
SUMMARY:Webinar: Case Studies from the Epitope-Analysis Toolbox
DESCRIPTION:Discover how One Lambda™ LABScreen Single Antigen ExPlex and One Lambda™ MagSort can be integrated into the analysis of complex (and surprising!) patient cases\, and how epitope-based analysis tools in the HLA Fusion™ 4.7.x software can be used to facilitate antibody analysis.\n\nTwo case studies outline the use of these additions to the ‘HLA Toolbox’:\nRead the case studies\n\nJoin us for a case presentation webinar where these cases will be presented by Victoria Wood\, Transplant Technical Sales Specialist:\n\nWebinar: Case Studies from the Epitope-Analysis Toolbox\nThursday\, 9th April 2026 \n13:00 BST | 30 minutes including Q&A \nRegister your interest\n  \n  \n  \n  \n  \n 
URL:https://www.vhbio.com/events/webinar-case-studies-from-the-epitope-analysis-toolbox/
ATTACH;FMTTYPE=image/jpeg:https://www.vhbio.com/wp-content/uploads/2026/03/epitome-analysis.jpg
END:VEVENT
BEGIN:VEVENT
DTSTART;VALUE=DATE:20260318
DTEND;VALUE=DATE:20260319
DTSTAMP:20260421T130756
CREATED:20260302T102242Z
LAST-MODIFIED:20260310T110013Z
UID:184881-1773792000-1773878399@www.vhbio.com
SUMMARY:OptiSlides Webinar: Colour\, Clarity & Confidence for Microscopy
DESCRIPTION:High-quality\, prepared microscope slides from Luxidea\, now available in six channel colours!  \nIs your microscope showing you the full picture?  \nJoin VH Bio and Professor Kamala Patel\, CEO of Luxidea\, for this exclusive webinar on OptiSlides: Prepared slides as sophisticated as the microscopes they serve.  \nCreated by scientists\, for scientists\, OptiSlides are advanced fluorescent microscopy slides for cell\, tissue\, or plant researchers. Specifically designed to test\, validate\, and showcase high-performance microscopes\, OptiSlides provide brilliant\, reliable results in every experiment.   \nMeet OptiSlides creator and CEO of Luxidea\, Professor Kamala Patel\, who will discuss the development of OptiSlides plant\, cell and thick tissue slides\, and be among the first to see the latest innovation – the new 6 Channel Near Infrared OptiSlides – a new spectrum of possibility for microscopy.  \nWednesday\, 18th March \n16:00 – 16:30 GMT including Q&A session  \nRegister\n  \n  \nRead more:  \nLuxidea’s OptiSlides: High-Performance Fluorescent Microscopy Slides for Laboratories  \n   \nAbout your host \n \nKamala D. Patel\, PhD\nCEO\, Luxidea\, Inc  \nProfessor\, University of Calgary  \nDr. Kamala Patel spent 35 years in academia\, working to understand the human immune system and how it misbehaves in chronic diseases. She established the Live Cell Imaging Lab at the University of Calgary and served as its Executive Director for over 20 years.  \nOne of her core principles is to democratise science by building research platforms that are accessible to all. This led to the founding of Luxidea.  \nLuxidea identifies simple solutions already at the prototype stage and develops them into products to serve the research community. Their lead product is OptiSlides\, prepared microscope slides that test\, showcase and troubleshoot advanced microscopes.  \nConnect with Kamala\n 
URL:https://www.vhbio.com/events/optislides-webinar/
ATTACH;FMTTYPE=image/png:https://www.vhbio.com/wp-content/uploads/2026/03/pine-needle-.png
END:VEVENT
BEGIN:VEVENT
DTSTART;TZID=UTC:20260303T090000
DTEND;TZID=UTC:20260306T170000
DTSTAMP:20260421T130756
CREATED:20250929T132140Z
LAST-MODIFIED:20260217T141242Z
UID:183915-1772528400-1772816400@www.vhbio.com
SUMMARY:BTS Annual Congress 2026
DESCRIPTION:Save the date for the British Transplantation Society Annual Congress 2026! \nLook out for Ben Adams\, Jess Brookes and Victoria Wood from the VH Bio transplant team at the Venue Cymru in Llandudno\, North Wales from 3rd-6th March.\nFind us at stand 17 for some fabulous merch and to chat about all things transplant-related\, including:\n\n One Lambda Devyser Accept cfDNA\nUrinary CXCL10 monitoring\nLABScreen\n\nLet us know if you will be attending!\nArrange to meet
URL:https://www.vhbio.com/events/bts-annual-conference-2026/
ATTACH;FMTTYPE=image/jpeg:https://www.vhbio.com/wp-content/uploads/2025/09/BTS_Congress_2026_L.jpg
END:VEVENT
BEGIN:VEVENT
DTSTART;VALUE=DATE:20251124
DTEND;VALUE=DATE:20251125
DTSTAMP:20260421T130756
CREATED:20250703T121426Z
LAST-MODIFIED:20251015T161101Z
UID:182924-1763942400-1764028799@www.vhbio.com
SUMMARY:Anthony Nolan GSSW 2025
DESCRIPTION:‘A Graft for All – Transforming selection strategies through HLA mismatch’\nAnthony Nolan’s 2025 GSSW will be held at the Cavendish Conference Centre in London on Monday\, 24 November 2025 from 09:30-16:30. \nThe workshop is dedicated to discussing unrelated donor selection for haematopoietic cell transplant (HCT) patients. We are looking forward to connecting with others in the H&I and transplant communities\, hearing new insight\, and sharing knowledge and experiences around finding the best donor. \nMeet VH Bio’s Transplant Technical Sales Specialists Jess Brookes and Victoria Wood at this year’s GSSW!
URL:https://www.vhbio.com/events/anthony-nolan-gssw-2025/
ATTACH;FMTTYPE=image/png:https://www.vhbio.com/wp-content/uploads/2025/07/anthony-nolan-gssw-2025.png
END:VEVENT
BEGIN:VEVENT
DTSTART;VALUE=DATE:20251113
DTEND;VALUE=DATE:20251114
DTSTAMP:20260421T130756
CREATED:20250709T131327Z
LAST-MODIFIED:20250924T150155Z
UID:183261-1762992000-1763078399@www.vhbio.com
SUMMARY:BTS BSHI Monothematic Meeting
DESCRIPTION:VH Bio is looking forward to the BTS BSHI Monothematic Meeting this November in London at the Wellcome Collection! \nLook out for Jess Brookes and Ben Adams on Day One of this year’s joint meeting\, who will be representing VH Bio alongside our supply partners One Lambda\, Inc. (Thermo Fisher Scientific). \nThe theme for the BTS and BSHI Monothematic Meeting is\, ‘Advancing transplantation diagnostics: cell free DNA and Omics technologies for precision medicine.’ Talks will be aimed at understanding the science and clinical application for novel diagnostics in the care of solid organ transplant patients.\nWill we see you there?  \nLet us know if you’ll be attending!
URL:https://www.vhbio.com/events/bts-bshi-monothematic-meeting/
ATTACH;FMTTYPE=image/jpeg:https://www.vhbio.com/wp-content/uploads/2024/06/Microbiology-Society-Annual-Meeting-in-Ireland.jpg
END:VEVENT
BEGIN:VEVENT
DTSTART;TZID=UTC:20251030T130000
DTEND;TZID=UTC:20251030T134500
DTSTAMP:20260421T130756
CREATED:20250924T093040Z
LAST-MODIFIED:20251015T110959Z
UID:183786-1761829200-1761831900@www.vhbio.com
SUMMARY:Webinar: Innovations in Post-Transplant Monitoring
DESCRIPTION:As the gap widens between patients on transplant waiting lists and available donor organs\, current focus is on improving immunological matching and donor organ quality and reducing cold ischaemia time.  However\, with approximately 1 in 5 transplanted kidneys failing within the first 5 years\, is it time to rethink post-transplantation monitoring?\n\nJoin us as we explore emerging markers\, such as de novo donor-specific antibodies\, donor-derived cell-free DNA\, Torque teno virus\, urinary exosomes and gene expression profiling; why these markers could signal allograft injury earlier than current methods allow\, and why many of these innovative tests are a natural fit for the Histocompatibility and Immunogenetics laboratory. \n\n\nThursday\, 30th October 2025\n13:00 – 13:45 including Q&A session\nHosted by: Jess Brookes\, Transplant Technical Sales Specialist \n\nRequest to attend\n\n  \n\n\n\n\n\n 
URL:https://www.vhbio.com/events/webinar-innovations-in-post-transplantation-monitoring/
ATTACH;FMTTYPE=image/jpeg:https://www.vhbio.com/wp-content/uploads/2025/09/julia-koblitz-RlOAwXt2fEA-unsplash-scaled-e1758704411134.jpg
END:VEVENT
BEGIN:VEVENT
DTSTART;VALUE=DATE:20251006
DTEND;VALUE=DATE:20251011
DTSTAMP:20260421T130756
CREATED:20250618T112022Z
LAST-MODIFIED:20251001T135800Z
UID:182534-1759708800-1760140799@www.vhbio.com
SUMMARY:ASHI 2025
DESCRIPTION:VH Bio is looking forward to the ASHI 51st Annual Meeting in Orlando this October!\nMeet Mohammad Ali Rafique\, Transplant Technical Sales Specialist\, at the American Society for Histocompatibility and Immunogenetics (ASHI) Annual Meeting from 6-10 October in Orlando\, Florida. \nKey events at ASHI\nPre-ASHI Technical Workshop\nPresented by One Lambda | A Thermo Fisher Scientific Brand \nMonday\, 6th October | 8:00 AM-12:00 PM | Grand Ballroom G\n\nRegister for One Lambda’s Pre-ASHI Technical Workshop\, and get ready to explore the latest advancements and technologies in their NGS products and software offerings: \n\nHybriType™ – From Validation to Implementation\nHLA Fusion™ 4.7.1: Updated Analysis Tools\nHybriType™\, ALLType Rapid™\, and enhancements to TypeStream Visual 3.2™\nHistoSuite™ – A Software Ecosystem\n\nContinuing education credits will be offered to attendees.\n\n  \nASHI User Group Meetings by Thermo Fisher Scientific\n\nFuture-Ready Labs: Automation\, Policy\, and Workflow \nTuesday\, 7 October | 12:40pm – 1:35pm \nThis exciting session will explore how automation can level up laboratory capabilities. Discover how automation can enable a more robust testing algorithm and learn how recent policy changes around virtual crossmatch are creating an impact. This session will provide valuable insights into optimising your workflows\, making sure your lab stays ahead of the curve. \n\n\nScientific Advancement Symposia: Bringing the Future to Routine Testing \nThursday\, 9 October | 12:40pm – 1:35pm \nJoin this engaging session highlighting One Lambda™ HybriType™ (Research Use Only) as both a powerful HLA assay and a forward-looking technology platform. This session will explore the evolution of HLA typing and the broader advancements enabled by a hybrid capture platform\, including research into the value of nonclassical MHC loci\, the potential to identify loss of heterozygosity\, and the expanding role of high-resolution KIR genotyping. Together\, these topics highlight the versatility of HybriType™ and its potential future implications for driving innovation. \n\n\nSpecial Event\nThermo Fisher Scientific Pack with a Purpose\nPatient Advocacy Giveback Event \nJoin One Lambda in giving back to the local community by packing Bravery Bags for Mended Little Hearts\, a non-profit organisation that supports families of children who are hospitalised with serious heart conditions\, including those facing heart transplant. Bravery Bags are filled with toiletry items\, comfort items\, educational resources\, and handwritten notes of encouragement. The bags provide families with some of the things they may need during a hospital stay\, but more importantly\, they let the family know they are not alone—that there are people out there who care about them and are there to support them. \nThursday\, 9 October | 1:35-2:45 pm | Windsong Pre-Function Space \n\nRegister for One Lambda’s ASHI Events\n\nGet in touch with technical@vhbio.com if you would like to sync up at #ASHI51!
URL:https://www.vhbio.com/events/ashi-2025/
ATTACH;FMTTYPE=image/png:https://www.vhbio.com/wp-content/uploads/2025/06/ashi-2025-vh-bio.png
END:VEVENT
BEGIN:VEVENT
DTSTART;VALUE=DATE:20250922
DTEND;VALUE=DATE:20250926
DTSTAMP:20260421T130756
CREATED:20250613T054522Z
LAST-MODIFIED:20250721T151027Z
UID:179064-1758499200-1758844799@www.vhbio.com
SUMMARY:Institute of Biomedical Science Congress 2025
DESCRIPTION:VH Bio is looking forward to the IBMS Congress 2025: Linking Learning to the Laboratory.   \nThe Congress runs from Monday\, 22 September to Thursday\, 25 September 2025 at the The International Convention Centre (ICC) in Birmingham. \nJames Briggs and Alexandria Kilvington will be attending – get in touch to arrange a meeting! \nVisit us at stand 932 in hall 4!
URL:https://www.vhbio.com/events/institute-of-biomedical-science-congress-2025/
LOCATION:The International Convention Centre (ICC)
ATTACH;FMTTYPE=image/jpeg:https://www.vhbio.com/wp-content/uploads/2022/08/Microbiology-Society-Annual-Conference-2023.jpg
END:VEVENT
BEGIN:VEVENT
DTSTART;VALUE=DATE:20250904
DTEND;VALUE=DATE:20250906
DTSTAMP:20260421T130756
CREATED:20250613T054545Z
LAST-MODIFIED:20250716T090145Z
UID:182393-1756944000-1757116799@www.vhbio.com
SUMMARY:BSHI 2025
DESCRIPTION:The VH Bio transplant team is eagerly awaiting the 35th Annual British Society for Histocompatibility and Immunogenetics Conference!  \nThis year’s BSHI Conference will be held in Edinburgh at The Royal College of Physicians on the 4th & 5th September 2025. \nWe’re hosting a pre-BSHI workshop on NGS Technologies and would love to meet you there! \nV.H. Bio Limited Pre-BSHI NGS Technologies Workshop\nWed\, 3 Sep 2025 12:30 – 17:00 BST | Edinburgh Training and Conference Venue \nJoin us for this free\, in-person event to learn about the latest Next-Generation Sequencing (NGS) technologies in the field of Histocompatibility and Immunogenetics. \nBy the end of this half-day workshop\, you will have a deeper understanding of: \nNGS Technologies: \n\nIllumina: Sequencing by Synthesis\nIon Torrent: Semiconductor Sequencing\nOxford Nanopore Technologies: SMRT Sequencing\n\n‘Next-Generation’ NGS Products: \n\nHybrid Capture Technology: HybriType™ 18-loci high-resolution genotyping of classical HLA\, other MHC genes\, and ABO\nRapid NGS: AllType™ Rapid 11-loci HLA genotyping\nINDEL Sequencing: Solid Organ & HPCT Post-Transplant Monitoring\n\nAnd for those already using or interested in exploring AllType FASTplex\, we will also be providing the following sessions: \n\nAllType FASTplex: Overview & Best Practice\nTypeStream™ Visual NGS Analysis Software v3.2: Overview\n\nRefreshments will be provided during the break\, followed by food and drinks afterwards. \nRegistration closes 20/08/2025 (or earlier\, 30 places available). \nSecure your spot!\nWatch this space for more details and follow us on LinkedIn for sneak peeks at our signature BSHI merch!
URL:https://www.vhbio.com/events/bshi-2025/
ATTACH;FMTTYPE=image/jpeg:https://www.vhbio.com/wp-content/uploads/2025/06/bshi-2025-scaled-2.jpg
END:VEVENT
BEGIN:VEVENT
DTSTART;VALUE=DATE:20250629
DTEND;VALUE=DATE:20250703
DTSTAMP:20260421T130756
CREATED:20250613T054545Z
LAST-MODIFIED:20250703T121054Z
UID:182392-1751155200-1751500799@www.vhbio.com
SUMMARY:ESOT Congress 2025
DESCRIPTION:ESOT Congress 2025: Nurturing a sustainable transplantation journey\nFind VH Bio’s Jess Brookes at The ESOT Congress 2025 from 29 June – 2 July at ExCel in London!\n  \nThis year’s theme is ‘Nurturing a sustainable transplantation journey\,‘ which will cover methods for forging a path towards a greener and more sustainable future for organ transplantation.. It’s a fantastic opportunity to explore how cutting-edge transplant research affects clinical practice and to learn about the latest sustainability and medical innovations in transplantation. \nWould you like to arrange to meet up with Jess at #ESOTCongress2025? Email technical@vhbio.com to plan a time! \n 
URL:https://www.vhbio.com/events/esot-congress-2025/
END:VEVENT
BEGIN:VEVENT
DTSTART;VALUE=DATE:20250624
DTEND;VALUE=DATE:20250625
DTSTAMP:20260421T130756
CREATED:20250613T054545Z
LAST-MODIFIED:20250613T060331Z
UID:182391-1750723200-1750809599@www.vhbio.com
SUMMARY:European HLA and Transplant Workshop
DESCRIPTION:VH Bio is looking forward to One Lambda’s 23rd Annual European HLA and Transplant Workshop!  \nThe workshop will be held from 24-27 June 2025 in Porto\, Portugal. We always look forward to attending this annual workshop hosted by One Lambda\, a Thermo Fisher Scientific brand\, as a place to facilitate dialogue and networking discussion about best practice and innovation in the field of transplantation and histocompatibility and immunogenetics. \nThis year’s HLA and Transplant Workshop will include topics that will highlight cutting-edge research\, engage in challenging discussions\, and showcase innovative technologies for the lives of transplant patients around the globe: \n\n2025 Paul I. Terasaki Antibody Lecture\nImpact of HLA Antibodies in Hematopoietic Stem Cell Transplantation with Mismatched Donors\nHLA antibody Concentration and Affinity\nBio-Data Science: Advent of Artificial Intelligence or Renaissance of Machine Learning\nHLA Database| Bioinformatics in Navigating Increasing Complexity and Volume\nImmune Reconstitution after SCT with a focus on T and NK Cells\nDonor Selection Strategies in Haploidentical Transplantation\nPresentations from our Directors Abstract Submissions\n\n  \nAre you attending the workshop? Look out for Ben Adams and Alison Wortley and email technical@vhbio.com if you’d like to arrange to meet up in Porto. 
URL:https://www.vhbio.com/events/european-hla-and-transplant-workshop/
ATTACH;FMTTYPE=image/jpeg:https://www.vhbio.com/wp-content/uploads/2024/06/transplant-workshop.jpg
END:VEVENT
END:VCALENDAR